BEGIN:VCALENDAR
VERSION:2.0
PRODID:icalendar-ruby
CALSCALE:GREGORIAN
METHOD:PUBLISH
BEGIN:VEVENT
DTSTAMP:20260424T160904Z
UID:65-1086028@peakworship.com
DTSTART:20260614T160000Z
DTEND:20260614T173000Z
CLASS:PUBLIC
CREATED:20260420T102059
DESCRIPTION:
LAST-MODIFIED:20260420T102059
LOCATION:315 Granada Street\, Lakeland FL 33805
SUMMARY:Pot Luck Sunday
URL;VALUE=URI:https://peakworship.com/events/pot-luck-sunday/2026-06-14
ATTACH;FILENAME=Icon.png;FMTTYPE=image/png:https://dq5pwpg1q8ru0.cloudfront
 .net/2026/04/20/14/20/59/1e039e73-17bd-4f20-b71f-45e66e5c52ca/Icon.png
END:VEVENT
END:VCALENDAR
