BEGIN:VCALENDAR
VERSION:2.0
PRODID:icalendar-ruby
CALSCALE:GREGORIAN
METHOD:PUBLISH
BEGIN:VEVENT
DTSTAMP:20260424T145338Z
UID:63-1085479@peakworship.com
DTSTART:20260502T133000Z
DTEND:20260502T153000Z
CLASS:PUBLIC
CREATED:20260420T101204
DESCRIPTION:
LAST-MODIFIED:20260420T101204
LOCATION:315 Granada Street\, Lakeland FL 33805
SUMMARY:PEAK Ladies Breakfast
URL;VALUE=URI:https://peakworship.com/events/peak-ladies-breakfast/2026-05-
 02
ATTACH;FILENAME=The-View-Logo.jpg;FMTTYPE=image/jpeg:https://dq5pwpg1q8ru0.
 cloudfront.net/2026/04/20/14/12/03/a5da3d13-bb9b-4adf-b0ab-db46e48d85a7/Th
 e-View-Logo.jpg
END:VEVENT
END:VCALENDAR
