BEGIN:VCALENDAR
VERSION:2.0
PRODID:icalendar-ruby
CALSCALE:GREGORIAN
METHOD:PUBLISH
BEGIN:VEVENT
DTSTAMP:20260424T144840Z
UID:62-1085471@peakworship.com
DTSTART:20260509T140000Z
DTEND:20260509T153000Z
CLASS:PUBLIC
CREATED:20260420T100614
DESCRIPTION:
LAST-MODIFIED:20260420T100614
LOCATION:315 Granada Street\, Lakeland FL 33805
SUMMARY:Grief & Loss Support
URL;VALUE=URI:https://peakworship.com/events/grief-loss-support/2026-05-09
ATTACH;FILENAME=GRIEF--WEB.jpg;FMTTYPE=image/jpeg:https://dq5pwpg1q8ru0.clo
 udfront.net/2026/04/20/14/06/14/df1d14b5-0bb2-4a51-b519-e8705bd2ca8c/GRIEF
 --WEB.jpg
END:VEVENT
END:VCALENDAR
