BEGIN:VCALENDAR
VERSION:2.0
PRODID:icalendar-ruby
CALSCALE:GREGORIAN
METHOD:PUBLISH
BEGIN:VEVENT
DTSTAMP:20260424T160001Z
UID:64-1086022@peakworship.com
DTSTART:20260608T230000Z
DTEND:20260609T000000Z
CLASS:PUBLIC
CREATED:20260420T101808
DESCRIPTION:
LAST-MODIFIED:20260420T101808
LOCATION:315 Granada Street\, Lakeland FL 33805
SUMMARY:Chat Time and Lemonade
URL;VALUE=URI:https://peakworship.com/events/chat-time-and-lemonade/2026-06
 -08
ATTACH;FILENAME=Chat-Time--Leamonade.jpg;FMTTYPE=image/jpeg:https://dq5pwpg
 1q8ru0.cloudfront.net/2026/04/20/14/18/08/d754f191-c535-4363-afa5-e28ac863
 ce23/Chat-Time--Leamonade.jpg
END:VEVENT
END:VCALENDAR
