BEGIN:VCALENDAR
VERSION:2.0
PRODID:icalendar-ruby
CALSCALE:GREGORIAN
METHOD:PUBLISH
BEGIN:VEVENT
DTSTAMP:20260424T160904Z
UID:66-1086029@peakworship.com
DTSTART:20260719T160000Z
DTEND:20260719T173000Z
CLASS:PUBLIC
CREATED:20260420T102620
DESCRIPTION:
LAST-MODIFIED:20260420T102620
LOCATION:315 Granada Street\, Lakeland FL 33805
SUMMARY:Campioni d'Italia Champions of Italy Competition 
URL;VALUE=URI:https://peakworship.com/events/campioni-ditalia-champions-of-
 italy-competition/2026-07-19
ATTACH;FILENAME=Icon.png;FMTTYPE=image/png:https://dq5pwpg1q8ru0.cloudfront
 .net/2026/04/20/14/26/20/69903123-59f5-49de-a47d-b24821d24494/Icon.png
END:VEVENT
END:VCALENDAR
